BEGIN:VCALENDAR
VERSION:2.0
PRODID:-//Briarbrook - ECPv6.15.20//NONSGML v1.0//EN
CALSCALE:GREGORIAN
METHOD:PUBLISH
X-ORIGINAL-URL:https://www.briarbrookgolfcourse.com
X-WR-CALDESC:Events for Briarbrook
REFRESH-INTERVAL;VALUE=DURATION:PT1H
X-Robots-Tag:noindex
X-PUBLISHED-TTL:PT1H
BEGIN:VTIMEZONE
TZID:America/Chicago
BEGIN:DAYLIGHT
TZOFFSETFROM:-0600
TZOFFSETTO:-0500
TZNAME:CDT
DTSTART:20250309T080000
END:DAYLIGHT
BEGIN:STANDARD
TZOFFSETFROM:-0500
TZOFFSETTO:-0600
TZNAME:CST
DTSTART:20251102T070000
END:STANDARD
BEGIN:DAYLIGHT
TZOFFSETFROM:-0600
TZOFFSETTO:-0500
TZNAME:CDT
DTSTART:20260308T080000
END:DAYLIGHT
BEGIN:STANDARD
TZOFFSETFROM:-0500
TZOFFSETTO:-0600
TZNAME:CST
DTSTART:20261101T070000
END:STANDARD
BEGIN:DAYLIGHT
TZOFFSETFROM:-0600
TZOFFSETTO:-0500
TZNAME:CDT
DTSTART:20270314T080000
END:DAYLIGHT
BEGIN:STANDARD
TZOFFSETFROM:-0500
TZOFFSETTO:-0600
TZNAME:CST
DTSTART:20271107T070000
END:STANDARD
END:VTIMEZONE
BEGIN:VEVENT
DTSTART;TZID=America/Chicago:20260502T090000
DTEND;TZID=America/Chicago:20260502T090000
DTSTAMP:20260424T081453
CREATED:20260414T145353Z
LAST-MODIFIED:20260414T145353Z
UID:7666-1777712400-1777712400@www.briarbrookgolfcourse.com
SUMMARY:New Heights Scramble
DESCRIPTION:
URL:https://www.briarbrookgolfcourse.com/event/new-heights-scramble/
END:VEVENT
BEGIN:VEVENT
DTSTART;TZID=America/Chicago:20260505T180000
DTEND;TZID=America/Chicago:20260505T180000
DTSTAMP:20260424T081453
CREATED:20260414T145353Z
LAST-MODIFIED:20260414T145353Z
UID:7667-1778004000-1778004000@www.briarbrookgolfcourse.com
SUMMARY:Ladies' League Begins
DESCRIPTION:
URL:https://www.briarbrookgolfcourse.com/event/ladies-league-begins/
END:VEVENT
BEGIN:VEVENT
DTSTART;TZID=America/Chicago:20260508T090000
DTEND;TZID=America/Chicago:20260508T090000
DTSTAMP:20260424T081453
CREATED:20260414T145354Z
LAST-MODIFIED:20260414T145354Z
UID:7668-1778230800-1778230800@www.briarbrookgolfcourse.com
SUMMARY:CJ Chamber Tournament
DESCRIPTION:
URL:https://www.briarbrookgolfcourse.com/event/cj-chamber-tournament/
END:VEVENT
BEGIN:VEVENT
DTSTART;TZID=America/Chicago:20260515T090000
DTEND;TZID=America/Chicago:20260515T090000
DTSTAMP:20260424T081453
CREATED:20260414T145354Z
LAST-MODIFIED:20260414T145354Z
UID:7669-1778835600-1778835600@www.briarbrookgolfcourse.com
SUMMARY:Fox Sports Scramble
DESCRIPTION:
URL:https://www.briarbrookgolfcourse.com/event/fox-sports-scramble/
END:VEVENT
BEGIN:VEVENT
DTSTART;TZID=America/Chicago:20260518T090000
DTEND;TZID=America/Chicago:20260518T090000
DTSTAMP:20260424T081453
CREATED:20260414T145355Z
LAST-MODIFIED:20260414T145355Z
UID:7670-1779094800-1779094800@www.briarbrookgolfcourse.com
SUMMARY:Charlie 22 Outdoors Tournament
DESCRIPTION:
URL:https://www.briarbrookgolfcourse.com/event/charlie-22-outdoors-tournament/
END:VEVENT
BEGIN:VEVENT
DTSTART;TZID=America/Chicago:20260521T090000
DTEND;TZID=America/Chicago:20260521T090000
DTSTAMP:20260424T081453
CREATED:20260414T145408Z
LAST-MODIFIED:20260414T145408Z
UID:7671-1779354000-1779354000@www.briarbrookgolfcourse.com
SUMMARY:Third Thursday Tournament
DESCRIPTION:
URL:https://www.briarbrookgolfcourse.com/event/third-thursday-tournament-2/
END:VEVENT
BEGIN:VEVENT
DTSTART;TZID=America/Chicago:20260522T110000
DTEND;TZID=America/Chicago:20260522T110000
DTSTAMP:20260424T081453
CREATED:20260414T145408Z
LAST-MODIFIED:20260414T145408Z
UID:7672-1779447600-1779447600@www.briarbrookgolfcourse.com
SUMMARY:Pool Opens
DESCRIPTION:
URL:https://www.briarbrookgolfcourse.com/event/pool-opens-2/
END:VEVENT
BEGIN:VEVENT
DTSTART;TZID=America/Chicago:20260523T090000
DTEND;TZID=America/Chicago:20260523T090000
DTSTAMP:20260424T081453
CREATED:20260414T145408Z
LAST-MODIFIED:20260414T145408Z
UID:7673-1779526800-1779526800@www.briarbrookgolfcourse.com
SUMMARY:Eagle Picher Tournament
DESCRIPTION:
URL:https://www.briarbrookgolfcourse.com/event/eagle-picher-tournament/
END:VEVENT
BEGIN:VEVENT
DTSTART;TZID=America/Chicago:20260525T090000
DTEND;TZID=America/Chicago:20260525T090000
DTSTAMP:20260424T081453
CREATED:20260414T145409Z
LAST-MODIFIED:20260414T145409Z
UID:7674-1779699600-1779699600@www.briarbrookgolfcourse.com
SUMMARY:Memorial Day Scramble
DESCRIPTION:
URL:https://www.briarbrookgolfcourse.com/event/memorial-day-scramble/
END:VEVENT
BEGIN:VEVENT
DTSTART;TZID=America/Chicago:20260529T090000
DTEND;TZID=America/Chicago:20260529T090000
DTSTAMP:20260424T081453
CREATED:20260414T145409Z
LAST-MODIFIED:20260414T145409Z
UID:7675-1780045200-1780045200@www.briarbrookgolfcourse.com
SUMMARY:Sports Edge Tournament
DESCRIPTION:
URL:https://www.briarbrookgolfcourse.com/event/sports-edge-tournament/
END:VEVENT
END:VCALENDAR